BEGIN:VCALENDAR
VERSION:2.0
PRODID:-//les-elixirs - ECPv6.15.20//NONSGML v1.0//EN
CALSCALE:GREGORIAN
METHOD:PUBLISH
X-ORIGINAL-URL:https://les-elixirs.fr
X-WR-CALDESC:Évènements pour les-elixirs
REFRESH-INTERVAL;VALUE=DURATION:PT1H
X-Robots-Tag:noindex
X-PUBLISHED-TTL:PT1H
BEGIN:VTIMEZONE
TZID:Europe/Paris
BEGIN:DAYLIGHT
TZOFFSETFROM:+0100
TZOFFSETTO:+0200
TZNAME:CEST
DTSTART:20240331T010000
END:DAYLIGHT
BEGIN:STANDARD
TZOFFSETFROM:+0200
TZOFFSETTO:+0100
TZNAME:CET
DTSTART:20241027T010000
END:STANDARD
BEGIN:DAYLIGHT
TZOFFSETFROM:+0100
TZOFFSETTO:+0200
TZNAME:CEST
DTSTART:20250330T010000
END:DAYLIGHT
BEGIN:STANDARD
TZOFFSETFROM:+0200
TZOFFSETTO:+0100
TZNAME:CET
DTSTART:20251026T010000
END:STANDARD
BEGIN:DAYLIGHT
TZOFFSETFROM:+0100
TZOFFSETTO:+0200
TZNAME:CEST
DTSTART:20260329T010000
END:DAYLIGHT
BEGIN:STANDARD
TZOFFSETFROM:+0200
TZOFFSETTO:+0100
TZNAME:CET
DTSTART:20261025T010000
END:STANDARD
BEGIN:DAYLIGHT
TZOFFSETFROM:+0100
TZOFFSETTO:+0200
TZNAME:CEST
DTSTART:20270328T010000
END:DAYLIGHT
BEGIN:STANDARD
TZOFFSETFROM:+0200
TZOFFSETTO:+0100
TZNAME:CET
DTSTART:20271031T010000
END:STANDARD
END:VTIMEZONE
BEGIN:VEVENT
DTSTART;TZID=Europe/Paris:20260418T200000
DTEND;TZID=Europe/Paris:20260418T233000
DTSTAMP:20260424T151557
CREATED:20251122T211810Z
LAST-MODIFIED:20260401T183901Z
UID:1221-1776542400-1776555000@les-elixirs.fr
SUMMARY:Soirée Just Dance
DESCRIPTION:Nous sommes ravis de vous annoncer une soirée exceptionnelle !  \n\n\n\nPréparez-vous pour une nuit inoubliable avec le jeu Just Dance qui vous fera danser toute la soirée \n\n\n\n\nLieu : Les Elixirs\, 42 rue des Plantes\, 72200 La Flèche\n\n\n\n\nAu programme  \n\n\n\n\nAmbiance festive et conviviale pour célébrer la musique sous toutes ses formes.\n\n\n\nCocktails spéciaux et rafraîchissements pour tenir jusqu’au bout de la nuit.
URL:https://les-elixirs.fr/evenement/soiree-just-dance/
ATTACH;FMTTYPE=image/png:https://les-elixirs.fr/wp-content/uploads/2025/11/Copie-de-Copie-de-your-name-2.png
END:VEVENT
BEGIN:VEVENT
DTSTART;TZID=Europe/Paris:20260417T200000
DTEND;TZID=Europe/Paris:20260417T233000
DTSTAMP:20260424T151557
CREATED:20240529T184020Z
LAST-MODIFIED:20260401T183603Z
UID:653-1776456000-1776468600@les-elixirs.fr
SUMMARY:Soirée Quiz
DESCRIPTION:Nous sommes ravis de vous annoncer la prochaine soirée quiz spéciale culture générale ! Venez tester vos connaissances et passer un moment divertissant entre amis ou en famille et tenter de battre la précédente équipe ! . \n\n\n\n\nRéservation : Obligatoire (contactez-nous au 0783563251 ou via les réseaux sociaux)\n\n\n\n\nAu programme : \n\n\n\n\nDes questions variées et captivantes sur de nombreux sujets de culture générale.\n\n\n\nUne tournée pour la meilleure équipe.\n\n\n\nUne ambiance conviviale et ludique\, parfaite pour passer une soirée agréable.\n\n\n\n\nN’oubliez pas de réserver votre place dès maintenant et préparez-vous à relever le défi ! Nous avons hâte de vous accueillir pour cette première édition de notre soirée quiz.
URL:https://les-elixirs.fr/evenement/soiree-quiz/
ATTACH;FMTTYPE=image/png:https://les-elixirs.fr/wp-content/uploads/2024/05/Soiree-Quiz-3.png
END:VEVENT
BEGIN:VEVENT
DTSTART;TZID=Europe/Paris:20260415T190000
DTEND;TZID=Europe/Paris:20260415T210000
DTSTAMP:20260424T151557
CREATED:20240613T183330Z
LAST-MODIFIED:20260401T183653Z
UID:689-1776279600-1776286800@les-elixirs.fr
SUMMARY:Atelier Cocktails
DESCRIPTION:Rejoignez-nous pour un atelier cocktail unique et apprenez à maîtriser l’art de la mixologie ! Cet événement exclusif est conçu pour les amateurs de cocktails qui souhaitent découvrir de nouvelles techniques et recettes dans une ambiance conviviale et interactive. \n\n\n\nAu programme : \n\n\n\n\nCours de mixologie : Sous la direction de notre expert barman\, vous apprendrez à préparer des cocktails classiques et innovants. Découvrez les secrets des ingrédients\, des techniques de mélange et des présentations spectaculaires.\n\n\n\nDégustation : Après chaque préparation\, dégustez vos créations et explorez une variété de saveurs.\n\n\n\nPlanches apéritives : Entre chaque session de préparation\, savourez des planches apéritives de charcuterie et de fromage\, parfaitement assorties à vos cocktails.\n\n\n\n\nCet atelier est une excellente occasion de perfectionner vos compétences en mixologie\, de passer un bon moment entre amis et de rencontrer d’autres passionnés de cocktails. \n\n\n\nRéservation obligatoire. Les places sont limitées pour garantir une expérience de qualité. \n\n\n\nPréparez-vous à vivre une soirée riche en découvertes et en plaisirs gustatifs. Ne manquez pas cette opportunité de devenir un véritable maestro du cocktail !
URL:https://les-elixirs.fr/evenement/atelier-cocktails-2/
ATTACH;FMTTYPE=image/png:https://les-elixirs.fr/wp-content/uploads/2024/06/Atelier-Cocktails-22.png
END:VEVENT
BEGIN:VEVENT
DTSTART;TZID=Europe/Paris:20260412T160000
DTEND;TZID=Europe/Paris:20260412T190000
DTSTAMP:20260424T151557
CREATED:20240320T181118Z
LAST-MODIFIED:20260401T183443Z
UID:590-1776009600-1776020400@les-elixirs.fr
SUMMARY:Dimanche Salsa
DESCRIPTION:Vous ferez quoi dimanche ? Nous on sait déjà ! \n\n\n\nUn petit Baile Domingo en mode tranquilou… ou pas 😁 Salsa/Bachata/Kizomba  \n\n\n\nLes Elixirs – 42 rue des Plantes 72200 La Flèche  \n\n\n\nContact Team : www.ensalsame.fr ensalsame@gmail.com
URL:https://les-elixirs.fr/evenement/dimanche-salsa/
ATTACH;FMTTYPE=image/png:https://les-elixirs.fr/wp-content/uploads/2024/03/Salsa-2.png
END:VEVENT
BEGIN:VEVENT
DTSTART;TZID=Europe/Paris:20260411T200000
DTEND;TZID=Europe/Paris:20260411T233000
DTSTAMP:20260424T151557
CREATED:20250527T165903Z
LAST-MODIFIED:20260401T183519Z
UID:1109-1775937600-1775950200@les-elixirs.fr
SUMMARY:Soirée Karaoké
DESCRIPTION:
URL:https://les-elixirs.fr/evenement/soiree-karaoke-7/
ATTACH;FMTTYPE=image/png:https://les-elixirs.fr/wp-content/uploads/2025/05/Karaoke-1-3.png
END:VEVENT
BEGIN:VEVENT
DTSTART;TZID=Europe/Paris:20260403T200000
DTEND;TZID=Europe/Paris:20260403T230000
DTSTAMP:20260424T151557
CREATED:20250527T190512Z
LAST-MODIFIED:20260401T183817Z
UID:1120-1775246400-1775257200@les-elixirs.fr
SUMMARY:Concert pop rock celtique
DESCRIPTION:
URL:https://les-elixirs.fr/evenement/concert-avec-lecole-de-musique-de-la-fleche/
ATTACH;FMTTYPE=image/png:https://les-elixirs.fr/wp-content/uploads/2025/05/Concert-5.png
END:VEVENT
BEGIN:VEVENT
DTSTART;TZID=Europe/Paris:20260228T200000
DTEND;TZID=Europe/Paris:20260228T233000
DTSTAMP:20260424T151557
CREATED:20260204T171151Z
LAST-MODIFIED:20260204T171152Z
UID:1278-1772308800-1772321400@les-elixirs.fr
SUMMARY:Soirée Switch
DESCRIPTION:Oyé Oyé\, braves sportifs du Royaume Fléchois ! Prenez votre chance et votre adresse\, car une aventure extraordinaire vous attend lors de notre désormais célèbre événement. \n\n\n\nLes Élixirs\, 42 rue des Plantes à La Flèche.
URL:https://les-elixirs.fr/evenement/soiree-switch/
ATTACH;FMTTYPE=image/png:https://les-elixirs.fr/wp-content/uploads/2026/02/Soiree-Switch-2.png
END:VEVENT
BEGIN:VEVENT
DTSTART;TZID=Europe/Paris:20260215T140000
DTEND;TZID=Europe/Paris:20260215T200000
DTSTAMP:20260424T151557
CREATED:20251122T205259Z
LAST-MODIFIED:20260204T170809Z
UID:1208-1771164000-1771185600@les-elixirs.fr
SUMMARY:Après-midi Jeux de société
DESCRIPTION:
URL:https://les-elixirs.fr/evenement/apres-midi-war-games/
ATTACH;FMTTYPE=image/png:https://les-elixirs.fr/wp-content/uploads/2025/11/Soiree-Jeux-de-societe.png
END:VEVENT
BEGIN:VEVENT
DTSTART;TZID=Europe/Paris:20260211T200000
DTEND;TZID=Europe/Paris:20260211T230000
DTSTAMP:20260424T151557
CREATED:20250225T174925Z
LAST-MODIFIED:20260204T170549Z
UID:987-1770840000-1770850800@les-elixirs.fr
SUMMARY:Soirée échecs
DESCRIPTION:Venez découvrir nos désormais célèbres soirées échecs
URL:https://les-elixirs.fr/evenement/soiree-belote/
ATTACH;FMTTYPE=image/png:https://les-elixirs.fr/wp-content/uploads/2025/02/Echecs-6.png
END:VEVENT
BEGIN:VEVENT
DTSTART;TZID=Europe/Paris:20260206T200000
DTEND;TZID=Europe/Paris:20260206T233000
DTSTAMP:20260424T151557
CREATED:20251122T202150Z
LAST-MODIFIED:20260204T170418Z
UID:1201-1770408000-1770420600@les-elixirs.fr
SUMMARY:Soirée Switch
DESCRIPTION:Oyé Oyé\, braves sportifs du Royaume Fléchois ! Prenez votre chance et votre adresse\, car une aventure extraordinaire vous attend lors de notre désormais célèbre événement. \n\n\n\nLes Élixirs\, 42 rue des Plantes à La Flèche.
URL:https://les-elixirs.fr/evenement/soiree-switch-sport/
ATTACH;FMTTYPE=image/png:https://les-elixirs.fr/wp-content/uploads/2025/11/Soiree-Switch-1-1.png
END:VEVENT
BEGIN:VEVENT
DTSTART;TZID=Europe/Paris:20251231T200000
DTEND;TZID=Europe/Paris:20251231T210000
DTSTAMP:20260424T151557
CREATED:20241217T190641Z
LAST-MODIFIED:20251122T212212Z
UID:891-1767211200-1767214800@les-elixirs.fr
SUMMARY:Réveillon du Nouvel An aux Élixirs
DESCRIPTION:Pour clôturer 2025 en beauté et accueillir la nouvelle année dans une ambiance chaleureuse et festive\, Les Élixirs vous propose une soirée inoubliable. \n\n\n\n🎉 Au programme :\n\n\n\n\nUn accueil convivial dès votre arrivée pour vous mettre dans l’ambiance festive.\n\n\n\nDes cocktails signature\, spécialement créés pour célébrer la nouvelle année. Nos mixologues ont mis les bouchées doubles pour vous surprendre et ravir vos papilles avec des créations uniques.\n\n\n\nPlanche apéritive gourmande à partager entre amis ou en famille\, pour profiter de l’instant autour de bons produits.\n\n\n\nCélébration du passage à minuit avec une coupe de bulles offerte pour trinquer à la nouvelle année dans la joie et la bonne humeur.\n\n\n\n\n🍾 Pourquoi choisir Les Élixirs ?\n\n\n\nNichés dans un cadre intimiste et unique\, Les Élixirs vous offrent une soirée loin des clichés habituels. Ici\, pas de foule oppressante : nous privilégions la qualité\, l’ambiance authentique et les moments partagés. Entre amis\, en couple ou en famille\, chaque invité trouvera sa place dans notre établissement. \n\n\n\nInformations pratiques :\n\n\n\n\nDate et horaire : 31 décembre 2025\, ouverture dès 19h jusqu’à tard dans la nuit.\n\n\n\nRéservation fortement conseillée pour garantir votre place.\n\n\n\nDress code : Chic et festif\, c’est l’occasion de sortir votre plus belle tenue !\n\n\n\n\nPassez le cap de la nouvelle année dans une ambiance à la fois élégante\, conviviale et festive. Une soirée mémorable vous attend aux Élixirs. \n\n\n\nRéservez dès maintenant pour ne pas manquer cet événement exceptionnel !📍 Les Élixirs – 42 rue des Plantes\, 72200 La Flèche🌐 www.les-elixirs.fr
URL:https://les-elixirs.fr/evenement/reveillon-du-nouvel-an-aux-elixirs/
ATTACH;FMTTYPE=image/jpeg:https://les-elixirs.fr/wp-content/uploads/2024/12/468862835_17912326047042009_7609533944008169796_n.jpg
END:VEVENT
BEGIN:VEVENT
DTSTART;TZID=Europe/Paris:20251217T190000
DTEND;TZID=Europe/Paris:20251217T210000
DTSTAMP:20260424T151557
CREATED:20251122T210921Z
LAST-MODIFIED:20251122T211420Z
UID:1218-1765998000-1766005200@les-elixirs.fr
SUMMARY:Atelier Dégustation : Tequila et mezcal
DESCRIPTION:Plongez dans une expérience sensorielle unique lors de notre atelier dégustation accompagné de spécialités méxicaine  \n\n\n\nPourquoi participer ? \n\n\n\n\nÉveil des sens : Explorez des combinaisons de saveurs inédites et enrichissez votre palette gustative.\n\n\n\nMoment convivial : Partagez cette expérience avec des amis ou des proches dans une ambiance chaleureuse et détendue.\n\n\n\nCadeau original : Offrez cette expérience unique pour la fête des pères ou tout autre événement spécial.\n\n\n\n\nRéservez dès maintenant !Les places sont limitées pour garantir une expérience intime et personnalisée. Ne manquez pas cette soirée d’exception.
URL:https://les-elixirs.fr/evenement/atelier-degustation-tequila-et-mezcal/
ATTACH;FMTTYPE=image/png:https://les-elixirs.fr/wp-content/uploads/2025/11/Atelier-Cocktails-19.png
END:VEVENT
BEGIN:VEVENT
DTSTART;TZID=Europe/Paris:20251206T090000
DTEND;TZID=Europe/Paris:20251207T190000
DTSTAMP:20260424T151557
CREATED:20251122T203315Z
LAST-MODIFIED:20251122T204723Z
UID:1205-1765011600-1765134000@les-elixirs.fr
SUMMARY:Marché de noël
DESCRIPTION:Retrouvez nous au marché de noël de La Flèche pour des tonnes d’idées cadeaux pour toute la famille.
URL:https://les-elixirs.fr/evenement/marche-de-noel/
ATTACH;FMTTYPE=image/png:https://les-elixirs.fr/wp-content/uploads/2025/11/Les-Elixirs-seront-present-1.png
END:VEVENT
BEGIN:VEVENT
DTSTART;TZID=Europe/Paris:20251123T190000
DTEND;TZID=Europe/Paris:20251123T233000
DTSTAMP:20260424T151557
CREATED:20240316T200059Z
LAST-MODIFIED:20251029T175821Z
UID:572-1763924400-1763940600@les-elixirs.fr
SUMMARY:Tournoi Mario Kart
DESCRIPTION:Oyé Oyé\, braves habitants du Royaume Fléchois ! Prenez vos épées\, votre chance et votre logique\, car une aventure extraordinaire vous attend lors de notre désormais célèbre événement de jeux de société. \n\n\n\nLes Élixirs\, 42 rue des Plantes à La Flèche.
URL:https://les-elixirs.fr/evenement/apres-midi-jeux-de-societes/
ATTACH;FMTTYPE=image/png:https://les-elixirs.fr/wp-content/uploads/2024/03/o-10.png
END:VEVENT
BEGIN:VEVENT
DTSTART;TZID=Europe/Paris:20251122T200000
DTEND;TZID=Europe/Paris:20251122T233000
DTSTAMP:20260424T151557
CREATED:20240525T174049Z
LAST-MODIFIED:20251029T175415Z
UID:649-1763841600-1763854200@les-elixirs.fr
SUMMARY:Soirée DJ Latino
DESCRIPTION:Nous sommes ravis de vous annoncer notre prochain grand événement ! Rejoignez-nous pour une soirée inoubliable\, où les meilleurs hits feront vibrer le bar Les Elixirs. \n\n\n\nDate et Heure : 📅 Samedi 22 novembre⏰ De 20h à 01h \n\n\n\nLieu : Les Elixirs42 rue des Plantes\, 72200 La Flèche \n\n\n\nAu Programme : Découvrez notre talentueux DJ 🎵 Playlist Éclectique et Éléctrique🥂 Ambiance Festive : Vivez une ambiance unique et festive\, idéale pour se retrouver entre amis ou faire de nouvelles rencontres. \n\n\n\nInformations supplémentaires : \n\n\n\n\nEntrée gratuite\n\n\n\nParking\n\n\n\n\nVenez nombreux pour célébrer cette soirée spéciale avec nous et découvrir le talent de notre nouveau DJ. On vous attend pour une nuit pleine de musique\, de danse et de bons moments ! \n\n\n\nÀ très bientôt pour une soirée mémorable !
URL:https://les-elixirs.fr/evenement/soiree-80-2000/
ATTACH;FMTTYPE=image/png:https://les-elixirs.fr/wp-content/uploads/2024/05/your-name-5.png
END:VEVENT
BEGIN:VEVENT
DTSTART;TZID=Europe/Paris:20251026T140000
DTEND;TZID=Europe/Paris:20251026T200000
DTSTAMP:20260424T151557
CREATED:20250527T185451Z
LAST-MODIFIED:20251003T173002Z
UID:1115-1761487200-1761508800@les-elixirs.fr
SUMMARY:Jeux de société spéciale halloween
DESCRIPTION:Oyé Oyé\, braves habitants du Royaume Fléchois ! Prenez vos épées\, votre chance et votre logique\, car une aventure extraordinaire vous attend lors de notre désormais célèbre événement de jeux de société. \n\n\n\nLes Élixirs\, 42 rue des Plantes à La Flèche.
URL:https://les-elixirs.fr/evenement/soiree-jeux-de-societe/
ATTACH;FMTTYPE=image/png:https://les-elixirs.fr/wp-content/uploads/2025/05/Jeudi-1.png
END:VEVENT
BEGIN:VEVENT
DTSTART;TZID=Europe/Paris:20250621T200000
DTEND;TZID=Europe/Paris:20250621T200000
DTSTAMP:20260424T151557
CREATED:20240613T161044Z
LAST-MODIFIED:20250527T194134Z
UID:682-1750536000-1750536000@les-elixirs.fr
SUMMARY:Fête de la musique
DESCRIPTION:es Elixirs vous invite à une soirée exceptionnelle pour célébrer la Fête de la Musique ! Rejoignez-nous le vendredi 21 juin pour une nuit pleine de musique et de danse jusqu’à 4 heures du matin. \n\n\n\n\nOuverture exceptionnelle : Pour cette occasion spéciale\, le bar restera ouvert jusqu’à 4 heures du matin\, vous permettant de profiter pleinement de cette fête.\n\n\n\nBoissons et cocktails : Dégustez nos délicieux cocktails\, bières et vins locaux pour accompagner cette nuit de fête.\n\n\n\n\nVenez avec vos amis\, votre famille ou en solo\, et préparez-vous à vivre une soirée inoubliable dans une ambiance chaleureuse et conviviale. \n\n\n\nRéservez votre soirée dès maintenant et ne manquez pas cette célébration unique de la Fête de la Musique !
URL:https://les-elixirs.fr/evenement/fete-de-la-musique/
ATTACH;FMTTYPE=image/png:https://les-elixirs.fr/wp-content/uploads/2024/06/20h00-01h00.png
END:VEVENT
BEGIN:VEVENT
DTSTART;TZID=Europe/Paris:20250614T110000
DTEND;TZID=Europe/Paris:20250615T160000
DTSTAMP:20260424T151557
CREATED:20240418T183129Z
LAST-MODIFIED:20250527T190958Z
UID:619-1749898800-1750003200@les-elixirs.fr
SUMMARY:Week-end promotion fêtes des pères
DESCRIPTION:
URL:https://les-elixirs.fr/evenement/week-end-promotion-fetes-des-meres/
ATTACH;FMTTYPE=image/png:https://les-elixirs.fr/wp-content/uploads/2024/04/week-end-promotion-5.png
END:VEVENT
BEGIN:VEVENT
DTSTART;TZID=Europe/Paris:20250513T190000
DTEND;TZID=Europe/Paris:20250513T210000
DTSTAMP:20260424T151557
CREATED:20240613T160541Z
LAST-MODIFIED:20250426T173724Z
UID:679-1747162800-1747170000@les-elixirs.fr
SUMMARY:Atelier Dégustation : Whisky
DESCRIPTION:Plongez dans une expérience sensorielle unique lors de notre atelier dégustation. \n\n\n\nPourquoi participer ? \n\n\n\n\nÉveil des sens : Explorez des combinaisons de saveurs inédites et enrichissez votre palette gustative.\n\n\n\nMoment convivial : Partagez cette expérience avec des amis ou des proches dans une ambiance chaleureuse et détendue.\n\n\n\nCadeau original : Offrez cette expérience unique pour la fête des pères ou tout autre événement spécial.\n\n\n\n\nRéservez dès maintenant !Les places sont limitées pour garantir une expérience intime et personnalisée. Ne manquez pas cette soirée d’exception.
URL:https://les-elixirs.fr/evenement/atelier-degustation-les-accords-rhums-et-chocolats/
ATTACH;FMTTYPE=image/png:https://les-elixirs.fr/wp-content/uploads/2024/06/Copie-de-Atelier-Cocktails-6.png
END:VEVENT
BEGIN:VEVENT
DTSTART;TZID=Europe/Paris:20250511T140000
DTEND;TZID=Europe/Paris:20250511T200000
DTSTAMP:20260424T151557
CREATED:20250426T173039Z
LAST-MODIFIED:20250426T173441Z
UID:1094-1746972000-1746993600@les-elixirs.fr
SUMMARY:Pirates tea time
DESCRIPTION:
URL:https://les-elixirs.fr/evenement/pirates-tea-time/
ATTACH;FMTTYPE=image/png:https://les-elixirs.fr/wp-content/uploads/2025/04/ven-26-juillet-4.png
END:VEVENT
BEGIN:VEVENT
DTSTART;TZID=Europe/Paris:20250510T200000
DTEND;TZID=Europe/Paris:20250510T233000
DTSTAMP:20260424T151557
CREATED:20240529T185249Z
LAST-MODIFIED:20250426T172955Z
UID:662-1746907200-1746919800@les-elixirs.fr
SUMMARY:Soirée Année 80
DESCRIPTION:Nous sommes ravis de vous annoncer une soirée exceptionnelle !  \n\n\n\nPréparez-vous pour une nuit inoubliable avec notre DJ qui vous fera danser toute la soirée \n\n\n\n\nLieu : Les Elixirs\, 42 rue des Plantes\, 72200 La Flèche\n\n\n\nDJ : Set spécial pour une ambiance festive et entraînante\n\n\n\n\nAu programme : \n\n\n\n\nDes mixes endiablés pour vous faire danser toute la nuit.\n\n\n\nAmbiance festive et conviviale pour célébrer la musique sous toutes ses formes.\n\n\n\nCocktails spéciaux et rafraîchissements pour tenir jusqu’au bout de la nuit.
URL:https://les-elixirs.fr/evenement/soiree-dj/
ATTACH;FMTTYPE=image/png:https://les-elixirs.fr/wp-content/uploads/2024/05/Copie-de-your-name-9.png
END:VEVENT
BEGIN:VEVENT
DTSTART;TZID=Europe/Paris:20250502T080000
DTEND;TZID=Europe/Paris:20250502T170000
DTSTAMP:20260424T151557
CREATED:20250426T165908Z
LAST-MODIFIED:20250426T165910Z
UID:1088-1746172800-1746205200@les-elixirs.fr
SUMMARY:Punch party
DESCRIPTION:
URL:https://les-elixirs.fr/evenement/punch-party/
ATTACH;FMTTYPE=image/png:https://les-elixirs.fr/wp-content/uploads/2025/04/Punch-party-1.png
END:VEVENT
BEGIN:VEVENT
DTSTART;TZID=Europe/Paris:20250405T200000
DTEND;TZID=Europe/Paris:20250405T233000
DTSTAMP:20260424T151557
CREATED:20250226T181907Z
LAST-MODIFIED:20250226T181909Z
UID:1008-1743883200-1743895800@les-elixirs.fr
SUMMARY:Soirée Kitsh
DESCRIPTION:Description à venir..
URL:https://les-elixirs.fr/evenement/soiree-kitsh/
ATTACH;FMTTYPE=image/png:https://les-elixirs.fr/wp-content/uploads/2025/02/Copie-de-Entree-Gratuite-7.png
END:VEVENT
BEGIN:VEVENT
DTSTART;TZID=Europe/Paris:20250329T200000
DTEND;TZID=Europe/Paris:20250329T233000
DTSTAMP:20260424T151557
CREATED:20240316T200817Z
LAST-MODIFIED:20250225T195604Z
UID:575-1743278400-1743291000@les-elixirs.fr
SUMMARY:Soirée Karaoké
DESCRIPTION:Amis mélomanes et amateurs de chansonnettes\, la seconde soirée Karaoké arrive\,  \n\n\n\nPréparez-vous à libérer votre talent vocal lors de notre soirée karaoké  ! \n\n\n\nQue vous soyez une rockstar en herbe ou un crooner chevronné\, le karaoké est l’occasion de briller sous les projecteurs. Choisissez votre chanson préférée et montrez au monde l’étendue de votre talent (ou pas) ! \n\n\n\nRetrouvez tous nos événements sur notre site www.les-elixirs.fr \n\n\n\nLes Elixirs\, 42 rue des Plantes à La Flèche. \n\n\n\nN’attendez pas\, invitez vos amis et aider nous à créer une expérience karaoké inoubliable !
URL:https://les-elixirs.fr/evenement/soiree-karaoke-2/
ATTACH;FMTTYPE=image/png:https://les-elixirs.fr/wp-content/uploads/2024/03/Copie-de-01-Mars-2024-9.png
END:VEVENT
BEGIN:VEVENT
DTSTART;TZID=Europe/Paris:20250321T200000
DTEND;TZID=Europe/Paris:20250321T230000
DTSTAMP:20260424T151557
CREATED:20240301T143017Z
LAST-MODIFIED:20250225T193725Z
UID:552-1742587200-1742598000@les-elixirs.fr
SUMMARY:Soirée de la Saint Patrick
DESCRIPTION:🍀🌈 Voyez la Vie en Vert avec la Saint Patrick  ! 🌈🍀 \n\n\n\nCe week-end de la Saint Patrick\, plongez des leprechauns avec notre brunch spécial du vendredi 21 mars ! Rejoignez-nous pour une expérience culinaire festive et pleine de saveurs. 🍀🎉
URL:https://les-elixirs.fr/evenement/week-end-de-la-saint-patrick/
ATTACH;FMTTYPE=image/png:https://les-elixirs.fr/wp-content/uploads/2024/03/La-tombola-de-la-Saint-Patrick-1.png
END:VEVENT
BEGIN:VEVENT
DTSTART;TZID=Europe/Paris:20250319T193000
DTEND;TZID=Europe/Paris:20250319T220000
DTSTAMP:20260424T151557
CREATED:20240301T142321Z
LAST-MODIFIED:20250225T193128Z
UID:549-1742412600-1742421600@les-elixirs.fr
SUMMARY:Atelier d'œnologie
DESCRIPTION:Annonce du prochain atelier !! \n\n\n\nJoignez-vous à nous pour un voyage œnologique unique lors du prochain atelier. \n\n\n\nExplorez la diversité de la Vallée de la Loire  au travers d’une dégustation de différents fromages qui accompagneront les vins. Chaque gorgée sera une aventure au fil du fleuve. \n\n\n\nRéservez votre place des maintenant (places limitées !) et laissez-vous emporter par les saveurs de notre région.
URL:https://les-elixirs.fr/evenement/atelier-doenologie/
ATTACH;FMTTYPE=image/png:https://les-elixirs.fr/wp-content/uploads/2024/03/Copie-de-Atelier-Cocktails-5.png
END:VEVENT
BEGIN:VEVENT
DTSTART;TZID=Europe/Paris:20250308T200000
DTEND;TZID=Europe/Paris:20250308T233000
DTSTAMP:20260424T151557
CREATED:20250225T192732Z
LAST-MODIFIED:20250225T192734Z
UID:995-1741464000-1741476600@les-elixirs.fr
SUMMARY:Soirée Girl Power
DESCRIPTION:
URL:https://les-elixirs.fr/evenement/soiree-girl-power/
ATTACH;FMTTYPE=image/png:https://les-elixirs.fr/wp-content/uploads/2025/02/Copie-de-ven-26-juillet.png
END:VEVENT
BEGIN:VEVENT
DTSTART;TZID=Europe/Paris:20250228T200000
DTEND;TZID=Europe/Paris:20250228T233000
DTSTAMP:20260424T151557
CREATED:20240731T204826Z
LAST-MODIFIED:20250124T180659Z
UID:730-1740772800-1740785400@les-elixirs.fr
SUMMARY:Soirée Karaoké
DESCRIPTION:Préparez-vous à libérer votre talent vocal lors de notre soirée karaoké sensationnelle ! 🎶✨ Rejoignez-nous pour une nuit remplie de rires\, de chansons et d’une ambiance électrisante.  \n\n\n\nQue vous soyez une rockstar en herbe ou un crooner chevronné\, le karaoké est l’occasion de briller sous les projecteurs. Choisissez votre chanson préférée et montrez au monde l’étendue de votre talent !
URL:https://les-elixirs.fr/evenement/soiree-karaoke-3/
ATTACH;FMTTYPE=image/png:https://les-elixirs.fr/wp-content/uploads/2024/07/01-Mars-2024-23.png
END:VEVENT
BEGIN:VEVENT
DTSTART;TZID=Europe/Paris:20250202T110000
DTEND;TZID=Europe/Paris:20250202T160000
DTSTAMP:20260424T151557
CREATED:20241227T191347Z
LAST-MODIFIED:20250124T174249Z
UID:904-1738494000-1738512000@les-elixirs.fr
SUMMARY:Brunch de la Chandeleur
DESCRIPTION:Venez déguster les crêpes de la Chandeleur lors de notre brunch à volonté ! \n\n\n\nFormule à 19€ par personne
URL:https://les-elixirs.fr/evenement/brunch-depiphanie/
ATTACH;FMTTYPE=image/png:https://les-elixirs.fr/wp-content/uploads/2024/12/Copie-de-Brunch-2.png
END:VEVENT
BEGIN:VEVENT
DTSTART;TZID=Europe/Paris:20250125T200000
DTEND;TZID=Europe/Paris:20250125T233000
DTSTAMP:20260424T151557
CREATED:20240731T173151Z
LAST-MODIFIED:20241227T200028Z
UID:723-1737835200-1737847800@les-elixirs.fr
SUMMARY:Soirée Dj Rock
DESCRIPTION:Événement : Soirée DJ Rock – vendredi 25 Janvier \n\n\n\nPréparez-vous à plonger dans une ambiance estivale inoubliable ! Les Elixirs vous invite à sa Soirée DJ Rock pour une soirée pleine de musique\, de danse et de fun\, inspirée par les meilleures vibes. \n\n\n\n🎧 DJ Set Exclusif : Notre DJ résident vous a concocté une playlist électrisante mêlant les plus grands hits et des remixes endiablés\, de quoi vous faire danser jusqu’au bout de la nuit !  \n\n\n\n🕒 Horaires : La soirée commence dès 20h00 et se prolongera jusqu’à 1h00 du matin pour les plus festifs d’entre vous. N’hésitez pas à arriver tôt pour profiter pleinement de l’ambiance.
URL:https://les-elixirs.fr/evenement/soiree-dj-beach-party/
ATTACH;FMTTYPE=image/png:https://les-elixirs.fr/wp-content/uploads/2024/07/Copie-de-your-name-8.png
END:VEVENT
END:VCALENDAR