BEGIN:VCALENDAR
VERSION:2.0
PRODID:-//les-elixirs - ECPv6.15.20//NONSGML v1.0//EN
CALSCALE:GREGORIAN
METHOD:PUBLISH
X-ORIGINAL-URL:https://les-elixirs.fr
X-WR-CALDESC:Évènements pour les-elixirs
REFRESH-INTERVAL;VALUE=DURATION:PT1H
X-Robots-Tag:noindex
X-PUBLISHED-TTL:PT1H
BEGIN:VTIMEZONE
TZID:Europe/Paris
BEGIN:DAYLIGHT
TZOFFSETFROM:+0100
TZOFFSETTO:+0200
TZNAME:CEST
DTSTART:20250330T010000
END:DAYLIGHT
BEGIN:STANDARD
TZOFFSETFROM:+0200
TZOFFSETTO:+0100
TZNAME:CET
DTSTART:20251026T010000
END:STANDARD
BEGIN:DAYLIGHT
TZOFFSETFROM:+0100
TZOFFSETTO:+0200
TZNAME:CEST
DTSTART:20260329T010000
END:DAYLIGHT
BEGIN:STANDARD
TZOFFSETFROM:+0200
TZOFFSETTO:+0100
TZNAME:CET
DTSTART:20261025T010000
END:STANDARD
BEGIN:DAYLIGHT
TZOFFSETFROM:+0100
TZOFFSETTO:+0200
TZNAME:CEST
DTSTART:20270328T010000
END:DAYLIGHT
BEGIN:STANDARD
TZOFFSETFROM:+0200
TZOFFSETTO:+0100
TZNAME:CET
DTSTART:20271031T010000
END:STANDARD
END:VTIMEZONE
BEGIN:VEVENT
DTSTART;TZID=Europe/Paris:20260215T140000
DTEND;TZID=Europe/Paris:20260215T200000
DTSTAMP:20260424T173155
CREATED:20251122T205259Z
LAST-MODIFIED:20260204T170809Z
UID:1208-1771164000-1771185600@les-elixirs.fr
SUMMARY:Après-midi Jeux de société
DESCRIPTION:
URL:https://les-elixirs.fr/evenement/apres-midi-war-games/
ATTACH;FMTTYPE=image/png:https://les-elixirs.fr/wp-content/uploads/2025/11/Soiree-Jeux-de-societe.png
END:VEVENT
END:VCALENDAR